BEGIN:VCALENDAR
VERSION:2.0
PRODID:-//sportverein-oberrieden.de - ECPv6.0.13.1//NONSGML v1.0//EN
CALSCALE:GREGORIAN
METHOD:PUBLISH
X-ORIGINAL-URL:https://sportverein-oberrieden.de
X-WR-CALDESC:Veranstaltungen für sportverein-oberrieden.de
REFRESH-INTERVAL;VALUE=DURATION:PT1H
X-Robots-Tag:noindex
X-PUBLISHED-TTL:PT1H
BEGIN:VTIMEZONE
TZID:Europe/Berlin
BEGIN:DAYLIGHT
TZOFFSETFROM:+0100
TZOFFSETTO:+0200
TZNAME:CEST
DTSTART:20250330T010000
END:DAYLIGHT
BEGIN:STANDARD
TZOFFSETFROM:+0200
TZOFFSETTO:+0100
TZNAME:CET
DTSTART:20251026T010000
END:STANDARD
END:VTIMEZONE
BEGIN:VEVENT
DTSTART;TZID=Europe/Berlin:20250308T150000
DTEND;TZID=Europe/Berlin:20250308T170000
DTSTAMP:20260419T144447
CREATED:20250124T130652Z
LAST-MODIFIED:20250124T130652Z
UID:10000340-1741446000-1741453200@sportverein-oberrieden.de
SUMMARY:Testspiel 1. Mannschaft: SV Oberrieden - SC Unterrieden
DESCRIPTION:
URL:https://sportverein-oberrieden.de/event/testspiel-1-mannschaft-sv-oberrieden-sc-unterrieden/
LOCATION:Sportplatz Oberrieden
CATEGORIES:1.Mannschaft
END:VEVENT
BEGIN:VEVENT
DTSTART;TZID=Europe/Berlin:20250316T150000
DTEND;TZID=Europe/Berlin:20250316T170000
DTSTAMP:20260419T144447
CREATED:20241117T104534Z
LAST-MODIFIED:20241117T104737Z
UID:10000322-1742137200-1742144400@sportverein-oberrieden.de
SUMMARY:Kreisliga Nord: SG TV Sontheim/FC Westerheim - SV Oberrieden
DESCRIPTION:
URL:https://sportverein-oberrieden.de/event/kreisliga-nord-sg-tv-sontheim-fc-westerheim-sv-oberrieden/
LOCATION:Hauptplatz Sontheim\, Frechenrieder Straße 25\, Sontheim\, 87776\, Deutschland
CATEGORIES:1.Mannschaft
END:VEVENT
BEGIN:VEVENT
DTSTART;TZID=Europe/Berlin:20250322T140000
DTEND;TZID=Europe/Berlin:20250322T160000
DTSTAMP:20260419T144447
CREATED:20250124T130956Z
LAST-MODIFIED:20250320T211830Z
UID:10000342-1742652000-1742659200@sportverein-oberrieden.de
SUMMARY:Testspiel 1. Mannschaft: SV Egg a.d. Günz - SV Oberrieden
DESCRIPTION:
URL:https://sportverein-oberrieden.de/event/testspiel-1-mannschaft-sv-egg-a-d-guenz-sv-oberrieden/
LOCATION:Hauptplatz Egg\, Sportplatzweg 5\, Egg a.d. Günz\, 87743\, Deutschland
CATEGORIES:1.Mannschaft
END:VEVENT
BEGIN:VEVENT
DTSTART;TZID=Europe/Berlin:20250323T130000
DTEND;TZID=Europe/Berlin:20250323T150000
DTSTAMP:20260419T144447
CREATED:20250124T130839Z
LAST-MODIFIED:20250124T130839Z
UID:10000341-1742734800-1742742000@sportverein-oberrieden.de
SUMMARY:B-Klasse: SV Oberrieden II - SG Amberg-Wiedergeltingen III
DESCRIPTION:
URL:https://sportverein-oberrieden.de/event/b-klasse-sv-oberrieden-ii-sg-amberg-wiedergeltingen-iii/
LOCATION:Sportplatz Oberrieden
CATEGORIES:2.Mannschaft
END:VEVENT
BEGIN:VEVENT
DTSTART;TZID=Europe/Berlin:20250330T150000
DTEND;TZID=Europe/Berlin:20250330T170000
DTSTAMP:20260419T144447
CREATED:20241117T104903Z
LAST-MODIFIED:20241117T104903Z
UID:10000323-1743346800-1743354000@sportverein-oberrieden.de
SUMMARY:Kreisliga Nord: SV Memmingerberg - SV Oberrieden
DESCRIPTION:
URL:https://sportverein-oberrieden.de/event/kreisliga-nord-sv-memmingerberg-sv-oberrieden/
LOCATION:Hauptfeld FC Benningen\, Triebweg 97\, Benningen\, 87734
CATEGORIES:1.Mannschaft
END:VEVENT
END:VCALENDAR