BEGIN:VCALENDAR
VERSION:2.0
PRODID:-//sportverein-oberrieden.de - ECPv6.0.13.1//NONSGML v1.0//EN
CALSCALE:GREGORIAN
METHOD:PUBLISH
X-ORIGINAL-URL:https://sportverein-oberrieden.de
X-WR-CALDESC:Veranstaltungen für sportverein-oberrieden.de
REFRESH-INTERVAL;VALUE=DURATION:PT1H
X-Robots-Tag:noindex
X-PUBLISHED-TTL:PT1H
BEGIN:VTIMEZONE
TZID:Europe/Berlin
BEGIN:DAYLIGHT
TZOFFSETFROM:+0100
TZOFFSETTO:+0200
TZNAME:CEST
DTSTART:20230326T010000
END:DAYLIGHT
BEGIN:STANDARD
TZOFFSETFROM:+0200
TZOFFSETTO:+0100
TZNAME:CET
DTSTART:20231029T010000
END:STANDARD
END:VTIMEZONE
BEGIN:VEVENT
DTSTART;TZID=Europe/Berlin:20230920T190000
DTEND;TZID=Europe/Berlin:20230920T190000
DTSTAMP:20260419T182047
CREATED:20230822T185833Z
LAST-MODIFIED:20230822T185833Z
UID:10000170-1695236400-1695236400@sportverein-oberrieden.de
SUMMARY:A-Jugen Verpandspokal: SG Kirchheim - SV Oberrieden
DESCRIPTION:
URL:https://sportverein-oberrieden.de/event/a-jugen-verpandspokal-sg-kirchheim-sv-oberrieden/
LOCATION:Sportpark Kirchheim\, Haselbacher Straße 50\, Kirchheim\, 87757
CATEGORIES:A-Jugend
END:VEVENT
END:VCALENDAR