BEGIN:VCALENDAR
VERSION:2.0
PRODID:-//sportverein-oberrieden.de - ECPv6.0.13.1//NONSGML v1.0//EN
CALSCALE:GREGORIAN
METHOD:PUBLISH
X-ORIGINAL-URL:https://sportverein-oberrieden.de
X-WR-CALDESC:Veranstaltungen für sportverein-oberrieden.de
REFRESH-INTERVAL;VALUE=DURATION:PT1H
X-Robots-Tag:noindex
X-PUBLISHED-TTL:PT1H
BEGIN:VTIMEZONE
TZID:Europe/Berlin
BEGIN:DAYLIGHT
TZOFFSETFROM:+0100
TZOFFSETTO:+0200
TZNAME:CEST
DTSTART:20230326T010000
END:DAYLIGHT
BEGIN:STANDARD
TZOFFSETFROM:+0200
TZOFFSETTO:+0100
TZNAME:CET
DTSTART:20231029T010000
END:STANDARD
END:VTIMEZONE
BEGIN:VEVENT
DTSTART;TZID=Europe/Berlin:20230521T103000
DTEND;TZID=Europe/Berlin:20230521T103000
DTSTAMP:20260420T201551
CREATED:20230321T200729Z
LAST-MODIFIED:20230414T213940Z
UID:10000075-1684665000-1684665000@sportverein-oberrieden.de
SUMMARY:JFG Singoldtal 2-TSV Pfaffenhausen\, Meisterschaften\, U 17 (B-Jun.) Gruppe Allgäu
DESCRIPTION:
URL:https://sportverein-oberrieden.de/event/jfg-singoldtal-2-tsv-pfaffenhausen-meisterschaften-u-17-b-jun-gruppe-allgaeu/
CATEGORIES:B-Jugend
END:VEVENT
BEGIN:VEVENT
DTSTART;TZID=Europe/Berlin:20230521T130000
DTEND;TZID=Europe/Berlin:20230521T130000
DTSTAMP:20260420T201551
CREATED:20230414T225212Z
LAST-MODIFIED:20230414T225212Z
UID:10000130-1684674000-1684674000@sportverein-oberrieden.de
SUMMARY:1. Mannschaft: SV Egg a.d. Günz II - SV Oberrieden
DESCRIPTION:
URL:https://sportverein-oberrieden.de/event/1-mannschaft-sv-egg-a-d-guenz-ii-sv-oberrieden/
LOCATION:Hauptplatz Egg\, Sportplatzweg 5\, Egg a.d. Günz\, 87743\, Deutschland
CATEGORIES:1.Mannschaft
END:VEVENT
BEGIN:VEVENT
DTSTART;TZID=Europe/Berlin:20230521T235900
DTEND;TZID=Europe/Berlin:20230521T235900
DTSTAMP:20260420T201551
CREATED:20230321T200715Z
LAST-MODIFIED:20230321T200715Z
UID:10000060-1684713540-1684713540@sportverein-oberrieden.de
SUMMARY:SPIELFREI-SV Oberrieden 2\, Meisterschaften\, B-Klasse Allgäu 6 Flex
DESCRIPTION:
URL:https://sportverein-oberrieden.de/event/spielfrei-sv-oberrieden-2-meisterschaften-b-klasse-allgaeu-6-flex/
CATEGORIES:2.Mannschaft
END:VEVENT
END:VCALENDAR